Package: FastqCleaner Version: 1.24.0 Command: /Library/Frameworks/R.framework/Resources/bin/R CMD build --keep-empty-dirs --no-resave-data FastqCleaner StartedAt: 2025-01-30 23:34:52 -0500 (Thu, 30 Jan 2025) EndedAt: 2025-01-30 23:36:17 -0500 (Thu, 30 Jan 2025) EllapsedTime: 85.0 seconds RetCode: 0 Status: OK PackageFile: FastqCleaner_1.24.0.tar.gz PackageFileSize: 4.356 MiB