Package: FastqCleaner Version: 1.24.0 Command: /Library/Frameworks/R.framework/Resources/bin/R CMD build --keep-empty-dirs --no-resave-data FastqCleaner StartedAt: 2025-02-03 18:54:48 -0500 (Mon, 03 Feb 2025) EndedAt: 2025-02-03 18:57:26 -0500 (Mon, 03 Feb 2025) EllapsedTime: 158.0 seconds RetCode: 0 Status: OK PackageFile: FastqCleaner_1.24.0.tar.gz PackageFileSize: 4.356 MiB