Package: FastqCleaner Version: 1.24.0 Command: chmod a+r FastqCleaner -R && F:\biocbuild\bbs-3.20-bioc\R\bin\R.exe CMD build --keep-empty-dirs --no-resave-data FastqCleaner StartedAt: 2025-02-03 19:05:25 -0500 (Mon, 03 Feb 2025) EndedAt: 2025-02-03 19:07:40 -0500 (Mon, 03 Feb 2025) EllapsedTime: 134.8 seconds RetCode: 0 Status: OK PackageFile: FastqCleaner_1.24.0.tar.gz PackageFileSize: 4.183 MiB