Package: FastqCleaner Version: 1.24.0 Command: F:\biocbuild\bbs-3.20-bioc\R\bin\R.exe CMD INSTALL FastqCleaner StartedAt: 2025-02-03 17:06:00 -0500 (Mon, 03 Feb 2025) EndedAt: 2025-02-03 17:08:20 -0500 (Mon, 03 Feb 2025) EllapsedTime: 140.1 seconds RetCode: 0 Status: OK