Package: FastqCleaner Version: 1.24.0 Command: /home/biocbuild/R/R/bin/R CMD build --keep-empty-dirs --no-resave-data FastqCleaner StartedAt: 2025-02-03 23:33:47 -0000 (Mon, 03 Feb 2025) EndedAt: 2025-02-03 23:35:15 -0000 (Mon, 03 Feb 2025) EllapsedTime: 88.1 seconds RetCode: 0 Status: OK PackageFile: FastqCleaner_1.24.0.tar.gz PackageFileSize: 4.261 MiB