Package: FeatSeekR Version: 1.6.0 Command: rm -rf FeatSeekR.buildbin-libdir && mkdir FeatSeekR.buildbin-libdir && /Users/biocbuild/BBS/utils/build-universal.sh FeatSeekR_1.6.0.tar.gz /Library/Frameworks/R.framework/Resources/bin/R FeatSeekR.buildbin-libdir StartedAt: 2025-02-05 15:50:24 -0500 (Wed, 05 Feb 2025) EndedAt: 2025-02-05 15:50:51 -0500 (Wed, 05 Feb 2025) EllapsedTime: 27.2 seconds RetCode: 0 Status: OK PackageFile: FeatSeekR_1.6.0.tgz PackageFileSize: 649.7 KiB