Package: FeatSeekR Version: 1.6.0 Command: /Library/Frameworks/R.framework/Resources/bin/R CMD check --install=check:FeatSeekR.install-out.txt --library=/Library/Frameworks/R.framework/Resources/library --no-vignettes --timings FeatSeekR_1.6.0.tar.gz StartedAt: 2025-01-31 03:53:12 -0500 (Fri, 31 Jan 2025) EndedAt: 2025-01-31 03:58:44 -0500 (Fri, 31 Jan 2025) EllapsedTime: 332.4 seconds RetCode: 0 Status: OK CheckDir: FeatSeekR.Rcheck Warnings: 0