Package: FeatSeekR Version: 1.6.0 Command: /Library/Frameworks/R.framework/Resources/bin/R CMD INSTALL FeatSeekR StartedAt: 2025-02-03 15:31:38 -0500 (Mon, 03 Feb 2025) EndedAt: 2025-02-03 15:32:24 -0500 (Mon, 03 Feb 2025) EllapsedTime: 45.4 seconds RetCode: 0 Status: OK