Package: FindIT2 Version: 1.12.0 Command: /Library/Frameworks/R.framework/Resources/bin/R CMD build --keep-empty-dirs --no-resave-data FindIT2 StartedAt: 2025-02-03 23:35:20 -0500 (Mon, 03 Feb 2025) EndedAt: 2025-02-03 23:37:13 -0500 (Mon, 03 Feb 2025) EllapsedTime: 112.8 seconds RetCode: 0 Status: OK PackageFile: FindIT2_1.12.0.tar.gz PackageFileSize: 2.32 MiB