Package: FindIT2 Version: 1.12.0 Command: /Library/Frameworks/R.framework/Resources/bin/R CMD check --install=check:FindIT2.install-out.txt --library=/Library/Frameworks/R.framework/Resources/library --no-vignettes --timings FindIT2_1.12.0.tar.gz StartedAt: 2025-02-11 19:31:04 -0500 (Tue, 11 Feb 2025) EndedAt: 2025-02-11 19:37:29 -0500 (Tue, 11 Feb 2025) EllapsedTime: 385.3 seconds RetCode: 0 Status: OK CheckDir: FindIT2.Rcheck Warnings: 0