Package: FitHiC Version: 1.32.0 Command: /Library/Frameworks/R.framework/Resources/bin/R CMD check --install=check:FitHiC.install-out.txt --library=/Library/Frameworks/R.framework/Resources/library --no-vignettes --timings FitHiC_1.32.0.tar.gz StartedAt: 2025-02-11 19:33:35 -0500 (Tue, 11 Feb 2025) EndedAt: 2025-02-11 19:36:13 -0500 (Tue, 11 Feb 2025) EllapsedTime: 157.6 seconds RetCode: 0 Status: OK CheckDir: FitHiC.Rcheck Warnings: 0