Package: FitHiC Version: 1.32.0 Command: /Library/Frameworks/R.framework/Resources/bin/R CMD INSTALL FitHiC StartedAt: 2025-02-03 15:13:14 -0500 (Mon, 03 Feb 2025) EndedAt: 2025-02-03 15:13:41 -0500 (Mon, 03 Feb 2025) EllapsedTime: 27.0 seconds RetCode: 0 Status: OK