Package: FitHiC Version: 1.32.0 Command: /Library/Frameworks/R.framework/Resources/bin/R CMD INSTALL FitHiC StartedAt: 2024-11-08 15:13:20 -0500 (Fri, 08 Nov 2024) EndedAt: 2024-11-08 15:13:27 -0500 (Fri, 08 Nov 2024) EllapsedTime: 7.2 seconds RetCode: 0 Status: OK