Package: FitHiC Version: 1.32.0 Command: /Library/Frameworks/R.framework/Resources/bin/R CMD INSTALL FitHiC StartedAt: 2025-02-03 15:14:14 -0500 (Mon, 03 Feb 2025) EndedAt: 2025-02-03 15:14:54 -0500 (Mon, 03 Feb 2025) EllapsedTime: 40.1 seconds RetCode: 0 Status: OK