Package: FitHiC Version: 1.32.0 Command: /home/biocbuild/bbs-3.20-bioc/R/bin/R CMD INSTALL FitHiC StartedAt: 2025-02-10 15:13:09 -0500 (Mon, 10 Feb 2025) EndedAt: 2025-02-10 15:13:35 -0500 (Mon, 10 Feb 2025) EllapsedTime: 26.4 seconds RetCode: 0 Status: OK