Package: FitHiC Version: 1.32.0 Command: rm -rf FitHiC.buildbin-libdir && mkdir FitHiC.buildbin-libdir && F:\biocbuild\bbs-3.20-bioc\R\bin\R.exe CMD INSTALL --build --library=FitHiC.buildbin-libdir FitHiC_1.32.0.tar.gz StartedAt: 2025-02-04 08:29:54 -0500 (Tue, 04 Feb 2025) EndedAt: 2025-02-04 08:30:19 -0500 (Tue, 04 Feb 2025) EllapsedTime: 24.8 seconds RetCode: 0 Status: OK PackageFile: FitHiC_1.32.0.zip PackageFileSize: 27.43 MiB