Package: FitHiC Version: 1.32.0 Command: F:\biocbuild\bbs-3.20-bioc\R\bin\R.exe CMD INSTALL FitHiC StartedAt: 2025-02-03 15:33:25 -0500 (Mon, 03 Feb 2025) EndedAt: 2025-02-03 15:34:06 -0500 (Mon, 03 Feb 2025) EllapsedTime: 40.9 seconds RetCode: 0 Status: OK