Package: FlowSOM Version: 2.14.0 Command: /Library/Frameworks/R.framework/Resources/bin/R CMD build --keep-empty-dirs --no-resave-data FlowSOM StartedAt: 2025-02-03 23:45:25 -0500 (Mon, 03 Feb 2025) EndedAt: 2025-02-03 23:47:28 -0500 (Mon, 03 Feb 2025) EllapsedTime: 122.9 seconds RetCode: 0 Status: OK PackageFile: FlowSOM_2.14.0.tar.gz PackageFileSize: 4.901 MiB