Package: FlowSOM Version: 2.14.0 Command: /Library/Frameworks/R.framework/Resources/bin/R CMD check --install=check:FlowSOM.install-out.txt --library=/Library/Frameworks/R.framework/Resources/library --no-vignettes --timings FlowSOM_2.14.0.tar.gz StartedAt: 2025-02-04 20:05:18 -0500 (Tue, 04 Feb 2025) EndedAt: 2025-02-04 20:14:45 -0500 (Tue, 04 Feb 2025) EllapsedTime: 567.0 seconds RetCode: 0 Status: OK CheckDir: FlowSOM.Rcheck Warnings: 0