Package: FlowSOM Version: 2.14.0 Command: /Library/Frameworks/R.framework/Resources/bin/R CMD INSTALL FlowSOM StartedAt: 2025-02-10 18:18:03 -0500 (Mon, 10 Feb 2025) EndedAt: 2025-02-10 18:18:19 -0500 (Mon, 10 Feb 2025) EllapsedTime: 15.2 seconds RetCode: 0 Status: OK