Package: FlowSOM Version: 2.14.0 Command: /Library/Frameworks/R.framework/Resources/bin/R CMD INSTALL FlowSOM StartedAt: 2024-11-19 15:44:54 -0500 (Tue, 19 Nov 2024) EndedAt: 2024-11-19 15:45:15 -0500 (Tue, 19 Nov 2024) EllapsedTime: 20.4 seconds RetCode: 0 Status: OK