Package: FlowSOM Version: 2.14.0 Command: /Library/Frameworks/R.framework/Resources/bin/R CMD INSTALL FlowSOM StartedAt: 2025-02-03 16:45:59 -0500 (Mon, 03 Feb 2025) EndedAt: 2025-02-03 16:46:28 -0500 (Mon, 03 Feb 2025) EllapsedTime: 29.5 seconds RetCode: 0 Status: OK