Package: FlowSOM Version: 2.14.0 Command: /home/biocbuild/bbs-3.20-bioc/R/bin/R CMD build --keep-empty-dirs --no-resave-data --md5 FlowSOM StartedAt: 2025-02-03 17:27:44 -0500 (Mon, 03 Feb 2025) EndedAt: 2025-02-03 17:29:18 -0500 (Mon, 03 Feb 2025) EllapsedTime: 94.1 seconds RetCode: 0 Status: OK PackageFile: FlowSOM_2.14.0.tar.gz PackageFileSize: 4.903 MiB