Package: FlowSOM Version: 2.14.0 Command: /home/biocbuild/bbs-3.20-bioc/R/bin/R CMD check --install=check:FlowSOM.install-out.txt --library=/home/biocbuild/bbs-3.20-bioc/R/site-library --timings FlowSOM_2.14.0.tar.gz StartedAt: 2025-02-10 22:19:31 -0500 (Mon, 10 Feb 2025) EndedAt: 2025-02-10 22:28:34 -0500 (Mon, 10 Feb 2025) EllapsedTime: 542.7 seconds RetCode: 0 Status: OK CheckDir: FlowSOM.Rcheck Warnings: 0