Package: FlowSOM Version: 2.14.0 Command: /home/biocbuild/bbs-3.20-bioc/R/bin/R CMD INSTALL FlowSOM StartedAt: 2025-02-10 16:01:23 -0500 (Mon, 10 Feb 2025) EndedAt: 2025-02-10 16:01:34 -0500 (Mon, 10 Feb 2025) EllapsedTime: 11.2 seconds RetCode: 0 Status: OK