Package: FlowSOM Version: 2.14.0 Command: /home/biocbuild/R/R/bin/R CMD build --keep-empty-dirs --no-resave-data FlowSOM StartedAt: 2025-02-03 23:40:46 -0000 (Mon, 03 Feb 2025) EndedAt: 2025-02-03 23:42:56 -0000 (Mon, 03 Feb 2025) EllapsedTime: 130.1 seconds RetCode: 0 Status: OK PackageFile: FlowSOM_2.14.0.tar.gz PackageFileSize: 4.906 MiB