Package: FlowSOM Version: 2.14.0 Command: /home/biocbuild/R/R/bin/R CMD check --install=check:FlowSOM.install-out.txt --library=/home/biocbuild/R/R/site-library --no-vignettes --timings FlowSOM_2.14.0.tar.gz StartedAt: 2025-02-04 07:05:09 -0000 (Tue, 04 Feb 2025) EndedAt: 2025-02-04 07:16:02 -0000 (Tue, 04 Feb 2025) EllapsedTime: 653.6 seconds RetCode: 0 Status: OK CheckDir: FlowSOM.Rcheck Warnings: 0