Package: FlowSOM Version: 2.14.0 Command: /home/biocbuild/R/R/bin/R CMD INSTALL FlowSOM StartedAt: 2025-02-03 21:21:31 -0000 (Mon, 03 Feb 2025) EndedAt: 2025-02-03 21:21:47 -0000 (Mon, 03 Feb 2025) EllapsedTime: 16.6 seconds RetCode: 0 Status: OK