Package: FuseSOM Version: 1.8.0 Command: /Library/Frameworks/R.framework/Resources/bin/R CMD INSTALL FuseSOM StartedAt: 2025-02-03 18:07:23 -0500 (Mon, 03 Feb 2025) EndedAt: 2025-02-03 18:07:54 -0500 (Mon, 03 Feb 2025) EllapsedTime: 30.9 seconds RetCode: 0 Status: OK