Package: FuseSOM Version: 1.8.0 Command: /Library/Frameworks/R.framework/Resources/bin/R CMD check --install=check:FuseSOM.install-out.txt --library=/Library/Frameworks/R.framework/Resources/library --no-vignettes --timings FuseSOM_1.8.0.tar.gz StartedAt: 2025-02-04 03:53:57 -0500 (Tue, 04 Feb 2025) EndedAt: 2025-02-04 04:00:26 -0500 (Tue, 04 Feb 2025) EllapsedTime: 389.3 seconds RetCode: 0 Status: OK CheckDir: FuseSOM.Rcheck Warnings: 0