Package: FuseSOM Version: 1.8.0 Command: /home/biocbuild/bbs-3.20-bioc/R/bin/R CMD build --keep-empty-dirs --no-resave-data --md5 FuseSOM StartedAt: 2025-02-03 17:28:43 -0500 (Mon, 03 Feb 2025) EndedAt: 2025-02-03 17:29:41 -0500 (Mon, 03 Feb 2025) EllapsedTime: 58.1 seconds RetCode: 0 Status: OK PackageFile: FuseSOM_1.8.0.tar.gz PackageFileSize: 2.647 MiB