Package: FuseSOM Version: 1.8.0 Command: /home/biocbuild/bbs-3.20-bioc/R/bin/R CMD INSTALL FuseSOM StartedAt: 2025-02-03 16:06:50 -0500 (Mon, 03 Feb 2025) EndedAt: 2025-02-03 16:07:23 -0500 (Mon, 03 Feb 2025) EllapsedTime: 33.6 seconds RetCode: 0 Status: OK