Package: FuseSOM Version: 1.8.0 Command: rm -rf FuseSOM.buildbin-libdir && mkdir FuseSOM.buildbin-libdir && F:\biocbuild\bbs-3.20-bioc\R\bin\R.exe CMD INSTALL --build --library=FuseSOM.buildbin-libdir FuseSOM_1.8.0.tar.gz StartedAt: 2025-02-04 08:31:40 -0500 (Tue, 04 Feb 2025) EndedAt: 2025-02-04 08:32:24 -0500 (Tue, 04 Feb 2025) EllapsedTime: 43.9 seconds RetCode: 0 Status: OK PackageFile: FuseSOM_1.8.0.zip PackageFileSize: 1.965 MiB