Package: FuseSOM Version: 1.8.0 Command: chmod a+r FuseSOM -R && F:\biocbuild\bbs-3.20-bioc\R\bin\R.exe CMD build --keep-empty-dirs --no-resave-data FuseSOM StartedAt: 2025-02-03 19:17:07 -0500 (Mon, 03 Feb 2025) EndedAt: 2025-02-03 19:18:49 -0500 (Mon, 03 Feb 2025) EllapsedTime: 101.7 seconds RetCode: 0 Status: OK PackageFile: FuseSOM_1.8.0.tar.gz PackageFileSize: 1.887 MiB