Package: FuseSOM Version: 1.8.0 Command: /home/biocbuild/R/R/bin/R CMD build --keep-empty-dirs --no-resave-data FuseSOM StartedAt: 2025-02-03 23:42:24 -0000 (Mon, 03 Feb 2025) EndedAt: 2025-02-03 23:43:50 -0000 (Mon, 03 Feb 2025) EllapsedTime: 86.0 seconds RetCode: 0 Status: OK PackageFile: FuseSOM_1.8.0.tar.gz PackageFileSize: 2.042 MiB