Package: FuseSOM Version: 1.8.0 Command: /home/biocbuild/R/R/bin/R CMD check --install=check:FuseSOM.install-out.txt --library=/home/biocbuild/R/R/site-library --no-vignettes --timings FuseSOM_1.8.0.tar.gz StartedAt: 2025-02-11 06:19:38 -0000 (Tue, 11 Feb 2025) EndedAt: 2025-02-11 06:23:16 -0000 (Tue, 11 Feb 2025) EllapsedTime: 218.2 seconds RetCode: 0 Status: OK CheckDir: FuseSOM.Rcheck Warnings: 0