Package: FuseSOM Version: 1.8.0 Command: /home/biocbuild/R/R/bin/R CMD INSTALL FuseSOM StartedAt: 2025-02-03 21:21:09 -0000 (Mon, 03 Feb 2025) EndedAt: 2025-02-03 21:21:42 -0000 (Mon, 03 Feb 2025) EllapsedTime: 32.8 seconds RetCode: 0 Status: OK