Package: GA4GHclient Version: 1.30.0 Command: rm -rf GA4GHclient.buildbin-libdir && mkdir GA4GHclient.buildbin-libdir && /Users/biocbuild/BBS/utils/build-universal.sh GA4GHclient_1.30.0.tar.gz /Library/Frameworks/R.framework/Resources/bin/R GA4GHclient.buildbin-libdir StartedAt: 2025-02-05 15:54:39 -0500 (Wed, 05 Feb 2025) EndedAt: 2025-02-05 15:55:29 -0500 (Wed, 05 Feb 2025) EllapsedTime: 50.3 seconds RetCode: 0 Status: OK PackageFile: GA4GHclient_1.30.0.tgz PackageFileSize: 755.4 KiB