Package: GA4GHclient Version: 1.30.0 Command: /Library/Frameworks/R.framework/Resources/bin/R CMD INSTALL GA4GHclient StartedAt: 2024-11-08 15:26:24 -0500 (Fri, 08 Nov 2024) EndedAt: 2024-11-08 15:26:39 -0500 (Fri, 08 Nov 2024) EllapsedTime: 15.3 seconds RetCode: 0 Status: OK