Package: GA4GHclient Version: 1.30.0 Command: /Library/Frameworks/R.framework/Resources/bin/R CMD check --install=check:GA4GHclient.install-out.txt --library=/Library/Frameworks/R.framework/Resources/library --no-vignettes --timings GA4GHclient_1.30.0.tar.gz StartedAt: 2025-01-31 04:05:11 -0500 (Fri, 31 Jan 2025) EndedAt: 2025-01-31 04:14:19 -0500 (Fri, 31 Jan 2025) EllapsedTime: 548.4 seconds RetCode: 0 Status: OK CheckDir: GA4GHclient.Rcheck Warnings: 0