Package: GA4GHclient Version: 1.30.0 Command: /home/biocbuild/bbs-3.20-bioc/R/bin/R CMD build --keep-empty-dirs --no-resave-data --md5 GA4GHclient StartedAt: 2025-02-03 17:28:54 -0500 (Mon, 03 Feb 2025) EndedAt: 2025-02-03 17:30:11 -0500 (Mon, 03 Feb 2025) EllapsedTime: 77.1 seconds RetCode: 0 Status: OK PackageFile: GA4GHclient_1.30.0.tar.gz PackageFileSize: 639.8 KiB