Package: GA4GHclient Version: 1.30.0 Command: chmod a+r GA4GHclient -R && F:\biocbuild\bbs-3.20-bioc\R\bin\R.exe CMD build --keep-empty-dirs --no-resave-data GA4GHclient StartedAt: 2025-01-30 19:01:55 -0500 (Thu, 30 Jan 2025) EndedAt: 2025-01-30 19:03:48 -0500 (Thu, 30 Jan 2025) EllapsedTime: 112.6 seconds RetCode: 0 Status: OK PackageFile: GA4GHclient_1.30.0.tar.gz PackageFileSize: 638 KiB