Package: GA4GHclient Version: 1.30.0 Command: F:\biocbuild\bbs-3.20-bioc\R\bin\R.exe CMD check --no-multiarch --install=check:GA4GHclient.install-out.txt --library=F:\biocbuild\bbs-3.20-bioc\R\library --no-vignettes --timings GA4GHclient_1.30.0.tar.gz StartedAt: 2025-01-31 02:09:55 -0500 (Fri, 31 Jan 2025) EndedAt: 2025-01-31 02:15:16 -0500 (Fri, 31 Jan 2025) EllapsedTime: 320.8 seconds RetCode: 0 Status: OK CheckDir: GA4GHclient.Rcheck Warnings: 0