Package: GA4GHclient Version: 1.30.0 Command: /home/biocbuild/R/R/bin/R CMD build --keep-empty-dirs --no-resave-data GA4GHclient StartedAt: 2025-01-30 23:42:15 -0000 (Thu, 30 Jan 2025) EndedAt: 2025-01-30 23:44:01 -0000 (Thu, 30 Jan 2025) EllapsedTime: 105.0 seconds RetCode: 0 Status: OK PackageFile: GA4GHclient_1.30.0.tar.gz PackageFileSize: 736.8 KiB