Package: GA4GHclient Version: 1.30.0 Command: /home/biocbuild/R/R/bin/R CMD INSTALL GA4GHclient StartedAt: 2025-02-03 20:43:26 -0000 (Mon, 03 Feb 2025) EndedAt: 2025-02-03 20:44:15 -0000 (Mon, 03 Feb 2025) EllapsedTime: 48.4 seconds RetCode: 0 Status: OK