Package: GARS Version: 1.26.0 Command: rm -rf GARS.buildbin-libdir && mkdir GARS.buildbin-libdir && /Users/biocbuild/BBS/utils/build-universal.sh GARS_1.26.0.tar.gz /Library/Frameworks/R.framework/Resources/bin/R GARS.buildbin-libdir StartedAt: 2025-02-01 14:59:51 -0500 (Sat, 01 Feb 2025) EndedAt: 2025-02-01 15:01:02 -0500 (Sat, 01 Feb 2025) EllapsedTime: 71.1 seconds RetCode: 0 Status: OK PackageFile: GARS_1.26.0.tgz PackageFileSize: 501.4 KiB