Package: GARS Version: 1.26.0 Command: /Library/Frameworks/R.framework/Resources/bin/R CMD build --keep-empty-dirs --no-resave-data GARS StartedAt: 2025-01-30 23:57:39 -0500 (Thu, 30 Jan 2025) EndedAt: 2025-01-31 00:00:04 -0500 (Fri, 31 Jan 2025) EllapsedTime: 144.8 seconds RetCode: 0 Status: OK PackageFile: GARS_1.26.0.tar.gz PackageFileSize: 438.6 KiB