Package: GARS Version: 1.26.0 Command: /Library/Frameworks/R.framework/Resources/bin/R CMD build --keep-empty-dirs --no-resave-data GARS StartedAt: 2025-02-03 19:03:48 -0500 (Mon, 03 Feb 2025) EndedAt: 2025-02-03 19:08:02 -0500 (Mon, 03 Feb 2025) EllapsedTime: 253.9 seconds RetCode: 0 Status: OK PackageFile: GARS_1.26.0.tar.gz PackageFileSize: 438.3 KiB