Package: GARS Version: 1.26.0 Command: /home/biocbuild/bbs-3.20-bioc/R/bin/R CMD check --install=check:GARS.install-out.txt --library=/home/biocbuild/bbs-3.20-bioc/R/site-library --timings GARS_1.26.0.tar.gz StartedAt: 2025-02-10 22:22:38 -0500 (Mon, 10 Feb 2025) EndedAt: 2025-02-10 22:30:27 -0500 (Mon, 10 Feb 2025) EllapsedTime: 469.5 seconds RetCode: 0 Status: OK CheckDir: GARS.Rcheck Warnings: 0