Package: GARS Version: 1.26.0 Command: rm -rf GARS.buildbin-libdir && mkdir GARS.buildbin-libdir && F:\biocbuild\bbs-3.20-bioc\R\bin\R.exe CMD INSTALL --build --library=GARS.buildbin-libdir GARS_1.26.0.tar.gz StartedAt: 2025-01-31 08:41:21 -0500 (Fri, 31 Jan 2025) EndedAt: 2025-01-31 08:42:29 -0500 (Fri, 31 Jan 2025) EllapsedTime: 68.1 seconds RetCode: 0 Status: OK PackageFile: GARS_1.26.0.zip PackageFileSize: 504.2 KiB